BEGIN:VCALENDAR
VERSION:2.0
PRODID:-//Friedrich-List-Schule Frankfurt - ECPv6.15.20//NONSGML v1.0//EN
CALSCALE:GREGORIAN
METHOD:PUBLISH
X-WR-CALNAME:Friedrich-List-Schule Frankfurt
X-ORIGINAL-URL:https://friedrich-list-schule-frankfurt.de
X-WR-CALDESC:Veranstaltungen für Friedrich-List-Schule Frankfurt
REFRESH-INTERVAL;VALUE=DURATION:PT1H
X-Robots-Tag:noindex
X-PUBLISHED-TTL:PT1H
BEGIN:VTIMEZONE
TZID:UTC
BEGIN:STANDARD
TZOFFSETFROM:+0000
TZOFFSETTO:+0000
TZNAME:UTC
DTSTART:20210101T000000
END:STANDARD
END:VTIMEZONE
BEGIN:VEVENT
DTSTART;VALUE=DATE:20220504
DTEND;VALUE=DATE:20220505
DTSTAMP:20260420T144833
CREATED:20220425T114731Z
LAST-MODIFIED:20220425T114731Z
UID:565-1651622400-1651708799@friedrich-list-schule-frankfurt.de
SUMMARY:Lernstandserhebung Deutsch
DESCRIPTION:Die Lernstandserhebung findet im 3. Schuljahr statt. Der Terminzeitraum ist vorgegeben.
URL:https://friedrich-list-schule-frankfurt.de/event/lernstandserhebung-deutsch
END:VEVENT
END:VCALENDAR