BEGIN:VCALENDAR
VERSION:2.0
PRODID:-//Friedrich-List-Schule Frankfurt - ECPv6.15.20//NONSGML v1.0//EN
CALSCALE:GREGORIAN
METHOD:PUBLISH
X-WR-CALNAME:Friedrich-List-Schule Frankfurt
X-ORIGINAL-URL:https://friedrich-list-schule-frankfurt.de
X-WR-CALDESC:Veranstaltungen für Friedrich-List-Schule Frankfurt
REFRESH-INTERVAL;VALUE=DURATION:PT1H
X-Robots-Tag:noindex
X-PUBLISHED-TTL:PT1H
BEGIN:VTIMEZONE
TZID:UTC
BEGIN:STANDARD
TZOFFSETFROM:+0000
TZOFFSETTO:+0000
TZNAME:UTC
DTSTART:20210101T000000
END:STANDARD
END:VTIMEZONE
BEGIN:VEVENT
DTSTART;TZID=UTC:20220510T101500
DTEND;TZID=UTC:20220510T110000
DTSTAMP:20260420T143015
CREATED:20220402T034452Z
LAST-MODIFIED:20220509T065234Z
UID:415-1652177700-1652180400@friedrich-list-schule-frankfurt.de
SUMMARY:Kinderkonferenz
DESCRIPTION:Heute treffen sich die Vertreter/Innen der einzelnen Klassen mit Frau Köhler. Wir besprechen Anliegen\, Vorschläge und Aktivitäten der Schulgemeinschaft.\nTreffpunkt ist der „Musikraum“ im Verwaltungsgebäude.
URL:https://friedrich-list-schule-frankfurt.de/event/kinderkonferenz
END:VEVENT
END:VCALENDAR