BEGIN:VCALENDAR
VERSION:2.0
PRODID:-//Friedrich-List-Schule Frankfurt - ECPv6.15.20//NONSGML v1.0//EN
CALSCALE:GREGORIAN
METHOD:PUBLISH
X-ORIGINAL-URL:https://friedrich-list-schule-frankfurt.de
X-WR-CALDESC:Veranstaltungen für Friedrich-List-Schule Frankfurt
REFRESH-INTERVAL;VALUE=DURATION:PT1H
X-Robots-Tag:noindex
X-PUBLISHED-TTL:PT1H
BEGIN:VTIMEZONE
TZID:UTC
BEGIN:STANDARD
TZOFFSETFROM:+0000
TZOFFSETTO:+0000
TZNAME:UTC
DTSTART:20210101T000000
END:STANDARD
END:VTIMEZONE
BEGIN:VEVENT
DTSTART;VALUE=DATE:20220517
DTEND;VALUE=DATE:20220518
DTSTAMP:20260420T143201
CREATED:20220401T170945Z
LAST-MODIFIED:20220401T171107Z
UID:372-1652745600-1652831999@friedrich-list-schule-frankfurt.de
SUMMARY:Pädagogischer Tag
DESCRIPTION:Heute lernen wir Lehrerinnen und Lehrer – eine ganztägige Fortbildung ist angesetzt.\nUnsere Schülerinnen und Schüler haben heute schulfrei.
URL:https://friedrich-list-schule-frankfurt.de/event/paedagogischer-tag
END:VEVENT
END:VCALENDAR