BEGIN:VCALENDAR
VERSION:2.0
PRODID:-//Friedrich-List-Schule Frankfurt - ECPv6.15.20//NONSGML v1.0//EN
CALSCALE:GREGORIAN
METHOD:PUBLISH
X-WR-CALNAME:Friedrich-List-Schule Frankfurt
X-ORIGINAL-URL:https://friedrich-list-schule-frankfurt.de
X-WR-CALDESC:Veranstaltungen für Friedrich-List-Schule Frankfurt
REFRESH-INTERVAL;VALUE=DURATION:PT1H
X-Robots-Tag:noindex
X-PUBLISHED-TTL:PT1H
BEGIN:VTIMEZONE
TZID:UTC
BEGIN:STANDARD
TZOFFSETFROM:+0000
TZOFFSETTO:+0000
TZNAME:UTC
DTSTART:20210101T000000
END:STANDARD
END:VTIMEZONE
BEGIN:VEVENT
DTSTART;TZID=UTC:20220524T180000
DTEND;TZID=UTC:20220524T190000
DTSTAMP:20260420T144221
CREATED:20220511T150523Z
LAST-MODIFIED:20220511T150523Z
UID:626-1653415200-1653418800@friedrich-list-schule-frankfurt.de
SUMMARY:Mitgliederversammlung Förderverein
DESCRIPTION:Heute sind alle Eltern herzlich willkommen\, die unsere Schule unterstützen möchten.\nBitte kommen Sie zahlreich\, um den Fortbestand unseres wichtigen Fördervereines zu sichern. \nWir freuen uns auf Sie! \nTreffpunkt ist der Mehrzweckraum im Verwaltungsgebäude.
URL:https://friedrich-list-schule-frankfurt.de/event/mitgliederversammlung-foerderverein
END:VEVENT
END:VCALENDAR