BEGIN:VCALENDAR
VERSION:2.0
PRODID:-//Friedrich-List-Schule Frankfurt - ECPv6.15.20//NONSGML v1.0//EN
CALSCALE:GREGORIAN
METHOD:PUBLISH
X-WR-CALNAME:Friedrich-List-Schule Frankfurt
X-ORIGINAL-URL:https://friedrich-list-schule-frankfurt.de
X-WR-CALDESC:Veranstaltungen für Friedrich-List-Schule Frankfurt
REFRESH-INTERVAL;VALUE=DURATION:PT1H
X-Robots-Tag:noindex
X-PUBLISHED-TTL:PT1H
BEGIN:VTIMEZONE
TZID:UTC
BEGIN:STANDARD
TZOFFSETFROM:+0000
TZOFFSETTO:+0000
TZNAME:UTC
DTSTART:20220101T000000
END:STANDARD
END:VTIMEZONE
BEGIN:VEVENT
DTSTART;TZID=UTC:20230203T080000
DTEND;TZID=UTC:20230203T104500
DTSTAMP:20260420T115327
CREATED:20230125T141240Z
LAST-MODIFIED:20230125T141240Z
UID:1204-1675411200-1675421100@friedrich-list-schule-frankfurt.de
SUMMARY:Tag der Zeugnisausgabe
DESCRIPTION:Die Schülerinnen und Schüler der 3. und 4. Klassen erhalten ein Halbjahreszeugnis. \nDieser Schultag endet um 10:45 Uhr.
URL:https://friedrich-list-schule-frankfurt.de/event/tag-der-zeugnisausgabe
END:VEVENT
END:VCALENDAR