BEGIN:VCALENDAR
VERSION:2.0
PRODID:-//Friedrich-List-Schule Frankfurt - ECPv6.15.20//NONSGML v1.0//EN
CALSCALE:GREGORIAN
METHOD:PUBLISH
X-ORIGINAL-URL:https://friedrich-list-schule-frankfurt.de
X-WR-CALDESC:Veranstaltungen für Friedrich-List-Schule Frankfurt
REFRESH-INTERVAL;VALUE=DURATION:PT1H
X-Robots-Tag:noindex
X-PUBLISHED-TTL:PT1H
BEGIN:VTIMEZONE
TZID:UTC
BEGIN:STANDARD
TZOFFSETFROM:+0000
TZOFFSETTO:+0000
TZNAME:UTC
DTSTART:20210101T000000
END:STANDARD
END:VTIMEZONE
BEGIN:VTIMEZONE
TZID:Europe/Helsinki
BEGIN:DAYLIGHT
TZOFFSETFROM:+0200
TZOFFSETTO:+0300
TZNAME:EEST
DTSTART:20210328T010000
END:DAYLIGHT
BEGIN:STANDARD
TZOFFSETFROM:+0300
TZOFFSETTO:+0200
TZNAME:EET
DTSTART:20211031T010000
END:STANDARD
BEGIN:DAYLIGHT
TZOFFSETFROM:+0200
TZOFFSETTO:+0300
TZNAME:EEST
DTSTART:20220327T010000
END:DAYLIGHT
BEGIN:STANDARD
TZOFFSETFROM:+0300
TZOFFSETTO:+0200
TZNAME:EET
DTSTART:20221030T010000
END:STANDARD
BEGIN:DAYLIGHT
TZOFFSETFROM:+0200
TZOFFSETTO:+0300
TZNAME:EEST
DTSTART:20230326T010000
END:DAYLIGHT
BEGIN:STANDARD
TZOFFSETFROM:+0300
TZOFFSETTO:+0200
TZNAME:EET
DTSTART:20231029T010000
END:STANDARD
END:VTIMEZONE
BEGIN:VTIMEZONE
TZID:Europe/Paris
BEGIN:DAYLIGHT
TZOFFSETFROM:+0100
TZOFFSETTO:+0200
TZNAME:CEST
DTSTART:20210328T010000
END:DAYLIGHT
BEGIN:STANDARD
TZOFFSETFROM:+0200
TZOFFSETTO:+0100
TZNAME:CET
DTSTART:20211031T010000
END:STANDARD
BEGIN:DAYLIGHT
TZOFFSETFROM:+0100
TZOFFSETTO:+0200
TZNAME:CEST
DTSTART:20220327T010000
END:DAYLIGHT
BEGIN:STANDARD
TZOFFSETFROM:+0200
TZOFFSETTO:+0100
TZNAME:CET
DTSTART:20221030T010000
END:STANDARD
BEGIN:DAYLIGHT
TZOFFSETFROM:+0100
TZOFFSETTO:+0200
TZNAME:CEST
DTSTART:20230326T010000
END:DAYLIGHT
BEGIN:STANDARD
TZOFFSETFROM:+0200
TZOFFSETTO:+0100
TZNAME:CET
DTSTART:20231029T010000
END:STANDARD
END:VTIMEZONE
BEGIN:VEVENT
DTSTART;TZID=UTC:20220601T180000
DTEND;TZID=UTC:20220601T190000
DTSTAMP:20260420T115213
CREATED:20220525T063528Z
LAST-MODIFIED:20220525T063528Z
UID:661-1654106400-1654110000@friedrich-list-schule-frankfurt.de
SUMMARY:Sitzung des Fördervereins
DESCRIPTION:
URL:https://friedrich-list-schule-frankfurt.de/event/sitzung-des-foerdervereins
END:VEVENT
BEGIN:VEVENT
DTSTART;TZID=UTC:20220601T191500
DTEND;TZID=UTC:20220601T201500
DTSTAMP:20260420T115213
CREATED:20220503T110329Z
LAST-MODIFIED:20220503T110329Z
UID:589-1654110900-1654114500@friedrich-list-schule-frankfurt.de
SUMMARY:Schulelternbeiratssitzung
DESCRIPTION:Unsere Schulelternbeiratsvorsitzende hat zu unserer 2. Sitzung für das Schuljahr 2021/2022 eingeladen.\nDie Sitzung findet im großen Raum EG statt.
URL:https://friedrich-list-schule-frankfurt.de/event/schulelternbeiratssitzung
END:VEVENT
BEGIN:VEVENT
DTSTART;TZID=UTC:20220601T201500
DTEND;TZID=UTC:20220601T210000
DTSTAMP:20260420T115213
CREATED:20220503T110453Z
LAST-MODIFIED:20220503T110500Z
UID:591-1654114500-1654117200@friedrich-list-schule-frankfurt.de
SUMMARY:Schulkonferenz
DESCRIPTION:Die 2. Konferenz für das Schuljahr 2021/2022 findet heute statt.\nDie Einladungen wurden per E-Mail in der KW 17 versendet.\nTreffpunkt ist der große Raum im Erdgeschoss.
URL:https://friedrich-list-schule-frankfurt.de/event/schulkonferenz
END:VEVENT
BEGIN:VEVENT
DTSTART;VALUE=DATE:20220606
DTEND;VALUE=DATE:20220607
DTSTAMP:20260420T115213
CREATED:20220402T034235Z
LAST-MODIFIED:20220402T034235Z
UID:413-1654473600-1654559999@friedrich-list-schule-frankfurt.de
SUMMARY:Pfingstmontag
DESCRIPTION:Schulfrei für Alle!
URL:https://friedrich-list-schule-frankfurt.de/event/pfingstmontag
END:VEVENT
BEGIN:VEVENT
DTSTART;TZID=UTC:20220608T084500
DTEND;TZID=UTC:20220609T114500
DTSTAMP:20260420T115213
CREATED:20220603T090620Z
LAST-MODIFIED:20220603T125306Z
UID:732-1654677900-1654775100@friedrich-list-schule-frankfurt.de
SUMMARY:Wäscheleinenaktion
DESCRIPTION:Bitte lesen Sie unsere Information.
URL:https://friedrich-list-schule-frankfurt.de/event/waescheleinenaktion
END:VEVENT
BEGIN:VEVENT
DTSTART;TZID=Europe/Helsinki:20220610T080000
DTEND;TZID=Europe/Helsinki:20220610T170000
DTSTAMP:20260420T115213
CREATED:20220402T035106Z
LAST-MODIFIED:20220620T022952Z
UID:422-1654848000-1654880400@friedrich-list-schule-frankfurt.de
SUMMARY:Ja was ist denn hier los...?
DESCRIPTION:Trixitt an unserer Schule!\nWir freuen uns auf Sport\, Spiel und Spaß! Denkt an eure Sportkleidung\, Sonnencreme\, Kopfbedeckung\, viel Wasser und ausreichend zu essen.\nBitte lesen Sie unsere Informationen.
URL:https://friedrich-list-schule-frankfurt.de/event/sportfest
END:VEVENT
BEGIN:VEVENT
DTSTART;VALUE=DATE:20220612
DTEND;VALUE=DATE:20220613
DTSTAMP:20260420T115213
CREATED:20220603T125922Z
LAST-MODIFIED:20220603T130029Z
UID:735-1654992000-1655078399@friedrich-list-schule-frankfurt.de
SUMMARY:1. Höchster Stadtparklauf
DESCRIPTION:Ein sportliches Event ganz in unserer Nähe. \nInteressierte Läuferinnen und Läufer entnehmen bitte dieser Seite weiterführende Informationen: \nLink
URL:https://friedrich-list-schule-frankfurt.de/event/1-hoechster-stadtparklauf
END:VEVENT
BEGIN:VEVENT
DTSTART;TZID=Europe/Helsinki:20220614T190000
DTEND;TZID=Europe/Helsinki:20220614T200000
DTSTAMP:20260420T115213
CREATED:20220425T120053Z
LAST-MODIFIED:20220620T022912Z
UID:576-1655233200-1655236800@friedrich-list-schule-frankfurt.de
SUMMARY:Elternabend für unsere neuen Erstklässler:innen
DESCRIPTION:Heute findet in unserer Turnhalle der erste Elternabend für unsere neuen Erstklässler:innen statt. \nWir möchten Sie ganz herzlich im Verwaltungsgebäude begrüßen. \n 
URL:https://friedrich-list-schule-frankfurt.de/event/elternabend-fuer-unsere-neuen-erstklaesslerinnen
END:VEVENT
BEGIN:VEVENT
DTSTART;VALUE=DATE:20220616
DTEND;VALUE=DATE:20220617
DTSTAMP:20260420T115213
CREATED:20220402T034137Z
LAST-MODIFIED:20220602T100142Z
UID:409-1655337600-1655423999@friedrich-list-schule-frankfurt.de
SUMMARY:Fronleichnam
DESCRIPTION:Schulfrei für Alle!
URL:https://friedrich-list-schule-frankfurt.de/event/fronleichnahm
END:VEVENT
BEGIN:VEVENT
DTSTART;VALUE=DATE:20220617
DTEND;VALUE=DATE:20220618
DTSTAMP:20260420T115213
CREATED:20220402T034207Z
LAST-MODIFIED:20220402T034207Z
UID:411-1655424000-1655510399@friedrich-list-schule-frankfurt.de
SUMMARY:Beweglicher Ferientag
DESCRIPTION:Schulfrei für Alle!
URL:https://friedrich-list-schule-frankfurt.de/event/beweglicher-ferientag
END:VEVENT
BEGIN:VEVENT
DTSTART;TZID=Europe/Paris:20220621T143000
DTEND;TZID=Europe/Paris:20220621T153000
DTSTAMP:20260420T115213
CREATED:20220618T141908Z
LAST-MODIFIED:20220622T134521Z
UID:769-1655821800-1655825400@friedrich-list-schule-frankfurt.de
SUMMARY:Kooperationstreffen Kita/Grundschule
DESCRIPTION:Endlich findet wieder ein Kooperationstreffen statt! Wir erhoffen\, bestehende Struktur zu re-aktivieren. \nVeranstaltungsort ist der Musikraum.
URL:https://friedrich-list-schule-frankfurt.de/event/kooperationstreffen-kita-grundschule
END:VEVENT
BEGIN:VEVENT
DTSTART;TZID=Europe/Paris:20220628T080000
DTEND;TZID=Europe/Paris:20220628T123000
DTSTAMP:20260420T115213
CREATED:20220525T113135Z
LAST-MODIFIED:20220620T022634Z
UID:670-1656403200-1656419400@friedrich-list-schule-frankfurt.de
SUMMARY:FLS wandert
DESCRIPTION:…ein Bewegungstag für Groß und Klein. \nDie Schulzeit für alle Kinder an diesem Tag: 08:00 Uhr bis 12:30 Uhr. \nBitte lesen hierzu diese Informationen.
URL:https://friedrich-list-schule-frankfurt.de/event/fls-wandert
END:VEVENT
END:VCALENDAR